BEGIN:VCALENDAR
VERSION:2.0
PRODID:-//horsealert.local//NONSGML kigkonsult.se iCalcreator 2.10.5//
CALSCALE:GREGORIAN
X-WR-TIMEZONE:Europe/Dublin
BEGIN:VTIMEZONE
TZID:Etc/GMT-1
BEGIN:STANDARD
DTSTART:20010101T000000
TZOFFSETFROM:+0100
TZOFFSETTO:+0100
TZNAME:GMT +01:00
END:STANDARD
END:VTIMEZONE
BEGIN:VEVENT
UID:20260423T152214CEST-9610hoad1p@horsealert.local
DTSTAMP:20260423T130414Z
CATEGORIES:Horse Alerts
DESCRIPTION:Allsoppandallsopp International Award Winners Juvenile Hurdle
DTSTART:20150712T163000
LOCATION:England
SUMMARY:Horse Racing:Allsoppandallsopp International Award Winners Juvenile
  Hurdle
END:VEVENT
END:VCALENDAR
