BEGIN:VCALENDAR
VERSION:2.0
PRODID:-//horsealert.local//NONSGML kigkonsult.se iCalcreator 2.10.5//
CALSCALE:GREGORIAN
X-WR-TIMEZONE:Europe/Dublin
BEGIN:VTIMEZONE
TZID:Etc/GMT-1
BEGIN:STANDARD
DTSTART:20010101T000000
TZOFFSETFROM:+0100
TZOFFSETTO:+0100
TZNAME:GMT +01:00
END:STANDARD
END:VTIMEZONE
BEGIN:VEVENT
UID:20260423T152042CEST-6574xgJUUT@horsealert.local
DTSTAMP:20260423T130442Z
CATEGORIES:Horse Alerts
DESCRIPTION:Sky To Scoop Perth Silver Cup Handicap Chase \(For The Perth Si
 lver Cup\)
DTSTART:20150712T161000
LOCATION:Scotland
SUMMARY:Horse Racing:Sky To Scoop Perth Silver Cup Handicap Chase \(For The
  Perth Silver Cup\)
END:VEVENT
END:VCALENDAR
