BEGIN:VCALENDAR
VERSION:2.0
PRODID:-//horsealert.local//NONSGML kigkonsult.se iCalcreator 2.10.5//
CALSCALE:GREGORIAN
X-WR-TIMEZONE:Europe/Dublin
BEGIN:VTIMEZONE
TZID:Etc/GMT-1
BEGIN:STANDARD
DTSTART:20010101T000000
TZOFFSETFROM:+0100
TZOFFSETTO:+0100
TZNAME:GMT +01:00
END:STANDARD
END:VTIMEZONE
BEGIN:VEVENT
UID:20260423T151907CEST-7836uIFBhD@horsealert.local
DTSTAMP:20260423T130407Z
CATEGORIES:Horse Alerts
DESCRIPTION:totetrifecta Pick The 1\,2\,3 Novices\' Hurdle \(Strongbow Dark
  Fruit Scottish Hurdle Series Qualifier\)
DTSTART:20150712T140000
LOCATION:Scotland
SUMMARY:Horse Racing:totetrifecta Pick The 1\,2\,3 Novices\' Hurdle \(Stron
 gbow Dark Fruit Scottish Hurdle Series Qualifier\)
END:VEVENT
END:VCALENDAR
