BEGIN:VCALENDAR
VERSION:2.0
PRODID:-//horsealert.local//NONSGML kigkonsult.se iCalcreator 2.10.5//
CALSCALE:GREGORIAN
X-WR-TIMEZONE:Europe/Dublin
BEGIN:VTIMEZONE
TZID:Etc/GMT-1
BEGIN:STANDARD
DTSTART:20010101T000000
TZOFFSETFROM:+0100
TZOFFSETTO:+0100
TZNAME:GMT +01:00
END:STANDARD
END:VTIMEZONE
BEGIN:VEVENT
UID:20260423T152212CEST-2780vPBOs6@horsealert.local
DTSTAMP:20260423T130412Z
CATEGORIES:Horse Alerts
DESCRIPTION:NEWBURY - Arab Race - Dubai International Arabian Races at Newb
 ury 26th July
DTSTART:20150709T175500
LOCATION:England
SUMMARY:Horse Racing:NEWBURY - Arab Race - Dubai International Arabian Race
 s at Newbury 26th July
END:VEVENT
END:VCALENDAR
