BEGIN:VCALENDAR
VERSION:2.0
PRODID:-//horsealert.local//NONSGML kigkonsult.se iCalcreator 2.10.5//
CALSCALE:GREGORIAN
X-WR-TIMEZONE:Europe/Dublin
BEGIN:VTIMEZONE
TZID:Etc/GMT-1
BEGIN:STANDARD
DTSTART:20010101T000000
TZOFFSETFROM:+0100
TZOFFSETTO:+0100
TZNAME:GMT +01:00
END:STANDARD
END:VTIMEZONE
BEGIN:VEVENT
UID:20260423T151951CEST-1325m5M9V1@horsealert.local
DTSTAMP:20260423T130451Z
CATEGORIES:Horse Alerts
DESCRIPTION:SIS\, EBF British Stallions Breeding Winners Fillies\' Handicap
  \(Rnd\)
DTSTART:20150709T160000
LOCATION:England
SUMMARY:Horse Racing:SIS\, EBF British Stallions Breeding Winners Fillies\'
  Handicap \(Rnd\)
END:VEVENT
END:VCALENDAR
