BEGIN:VCALENDAR
VERSION:2.0
PRODID:-//horsealert.local//NONSGML kigkonsult.se iCalcreator 2.10.5//
CALSCALE:GREGORIAN
X-WR-TIMEZONE:Europe/Dublin
BEGIN:VTIMEZONE
TZID:Etc/GMT-1
BEGIN:STANDARD
DTSTART:20010101T000000
TZOFFSETFROM:+0100
TZOFFSETTO:+0100
TZNAME:GMT +01:00
END:STANDARD
END:VTIMEZONE
BEGIN:VEVENT
UID:20260423T152533CEST-9415N0VEAG@horsealert.local
DTSTAMP:20260423T130433Z
CATEGORIES:Horse Alerts
DESCRIPTION:Hastings Direct Sir Henry Cecil Stakes \(Formerly The Stubbs St
 akes\) \(Listed\)
DTSTART:20150709T173000
LOCATION:England
SUMMARY:Horse Racing:Hastings Direct Sir Henry Cecil Stakes \(Formerly The 
 Stubbs Stakes\) \(Listed\)
END:VEVENT
END:VCALENDAR
