BEGIN:VCALENDAR
VERSION:2.0
PRODID:-//horsealert.local//NONSGML kigkonsult.se iCalcreator 2.10.5//
CALSCALE:GREGORIAN
X-WR-TIMEZONE:Europe/Dublin
BEGIN:VTIMEZONE
TZID:Etc/GMT-1
BEGIN:STANDARD
DTSTART:20010101T000000
TZOFFSETFROM:+0100
TZOFFSETTO:+0100
TZNAME:GMT +01:00
END:STANDARD
END:VTIMEZONE
BEGIN:VEVENT
UID:20260423T151942CEST-2793U3l7l7@horsealert.local
DTSTAMP:20260423T130442Z
CATEGORIES:Horse Alerts
DESCRIPTION:Giving Young People A Sporting Chance Maiden Stakes
DTSTART:20150708T211000
LOCATION:England
SUMMARY:Horse Racing:Giving Young People A Sporting Chance Maiden Stakes
END:VEVENT
END:VCALENDAR
