BEGIN:VCALENDAR
VERSION:2.0
PRODID:-//horsealert.local//NONSGML kigkonsult.se iCalcreator 2.10.5//
CALSCALE:GREGORIAN
X-WR-TIMEZONE:Europe/Dublin
BEGIN:VTIMEZONE
TZID:Etc/GMT-1
BEGIN:STANDARD
DTSTART:20010101T000000
TZOFFSETFROM:+0100
TZOFFSETTO:+0100
TZNAME:GMT +01:00
END:STANDARD
END:VTIMEZONE
BEGIN:VEVENT
UID:20260423T152045CEST-3118XSZLfI@horsealert.local
DTSTAMP:20260423T130445Z
CATEGORIES:Horse Alerts
DESCRIPTION:Call 0333 0023000 Missold2u Handicap
DTSTART:20150707T144000
LOCATION:England
SUMMARY:Horse Racing:Call 0333 0023000 Missold2u Handicap
END:VEVENT
END:VCALENDAR
