BEGIN:VCALENDAR
VERSION:2.0
PRODID:-//horsealert.local//NONSGML kigkonsult.se iCalcreator 2.10.5//
CALSCALE:GREGORIAN
X-WR-TIMEZONE:Europe/Dublin
BEGIN:VTIMEZONE
TZID:Etc/GMT-1
BEGIN:STANDARD
DTSTART:20010101T000000
TZOFFSETFROM:+0100
TZOFFSETTO:+0100
TZNAME:GMT +01:00
END:STANDARD
END:VTIMEZONE
BEGIN:VEVENT
UID:20260423T152120CEST-8525ds79wV@horsealert.local
DTSTAMP:20260423T130420Z
CATEGORIES:Horse Alerts
DESCRIPTION:\'Madness\' After Racing Friday 25th September Classified Claim
 ing Stakes
DTSTART:20150707T142500
LOCATION:England
SUMMARY:Horse Racing:\'Madness\' After Racing Friday 25th September Classif
 ied Claiming Stakes
END:VEVENT
END:VCALENDAR
