BEGIN:VCALENDAR
VERSION:2.0
PRODID:-//horsealert.local//NONSGML kigkonsult.se iCalcreator 2.10.5//
CALSCALE:GREGORIAN
X-WR-TIMEZONE:Europe/Dublin
BEGIN:VTIMEZONE
TZID:Etc/GMT-1
BEGIN:STANDARD
DTSTART:20010101T000000
TZOFFSETFROM:+0100
TZOFFSETTO:+0100
TZNAME:GMT +01:00
END:STANDARD
END:VTIMEZONE
BEGIN:VEVENT
UID:20260423T152043CEST-3061eSv9eW@horsealert.local
DTSTAMP:20260423T130443Z
CATEGORIES:Horse Alerts
DESCRIPTION:Amandine Fillies Listed Stakes
DTSTART:20150705T162000
LOCATION:France
SUMMARY:Horse Racing:Amandine Fillies Listed Stakes
END:VEVENT
END:VCALENDAR
