BEGIN:VCALENDAR
VERSION:2.0
PRODID:-//horsealert.local//NONSGML kigkonsult.se iCalcreator 2.10.5//
CALSCALE:GREGORIAN
X-WR-TIMEZONE:Europe/Dublin
BEGIN:VTIMEZONE
TZID:Etc/GMT-1
BEGIN:STANDARD
DTSTART:20010101T000000
TZOFFSETFROM:+0100
TZOFFSETTO:+0100
TZNAME:GMT +01:00
END:STANDARD
END:VTIMEZONE
BEGIN:VEVENT
UID:20260423T152558CEST-0645uAgh6j@horsealert.local
DTSTAMP:20260423T130458Z
CATEGORIES:Horse Alerts
DESCRIPTION:EBF Jackson\'s Yorkshire Champion Bread Novice Stakes \(Plus10\
 )
DTSTART:20150703T184500
LOCATION:England
SUMMARY:Horse Racing:EBF Jackson\'s Yorkshire Champion Bread Novice Stakes 
 \(Plus10\)
END:VEVENT
END:VCALENDAR
