BEGIN:VCALENDAR
VERSION:2.0
PRODID:-//horsealert.local//NONSGML kigkonsult.se iCalcreator 2.10.5//
CALSCALE:GREGORIAN
X-WR-TIMEZONE:Europe/Dublin
BEGIN:VTIMEZONE
TZID:Etc/GMT-1
BEGIN:STANDARD
DTSTART:20010101T000000
TZOFFSETFROM:+0100
TZOFFSETTO:+0100
TZNAME:GMT +01:00
END:STANDARD
END:VTIMEZONE
BEGIN:VEVENT
UID:20260423T152614CEST-9283us4a6v@horsealert.local
DTSTAMP:20260423T130414Z
CATEGORIES:Horse Alerts
DESCRIPTION:Tipperary Ladies Day Saturday 11th July Handicap \(47-65\)
DTSTART:20150702T200000
LOCATION:Eire
SUMMARY:Horse Racing:Tipperary Ladies Day Saturday 11th July Handicap \(47-
 65\)
END:VEVENT
END:VCALENDAR
