BEGIN:VCALENDAR
VERSION:2.0
PRODID:-//horsealert.local//NONSGML kigkonsult.se iCalcreator 2.10.5//
CALSCALE:GREGORIAN
X-WR-TIMEZONE:Europe/Dublin
BEGIN:VTIMEZONE
TZID:Etc/GMT-1
BEGIN:STANDARD
DTSTART:20010101T000000
TZOFFSETFROM:+0100
TZOFFSETTO:+0100
TZNAME:GMT +01:00
END:STANDARD
END:VTIMEZONE
BEGIN:VEVENT
UID:20260423T152325CEST-65959GBU4a@horsealert.local
DTSTAMP:20260423T130425Z
CATEGORIES:Horse Alerts
DESCRIPTION:BettingGods.com Horse Racing Tips Novices\' Handicap Hurdle \(D
 iv 1\)
DTSTART:20150701T165000
LOCATION:England
SUMMARY:Horse Racing:BettingGods.com Horse Racing Tips Novices\' Handicap H
 urdle \(Div 1\)
END:VEVENT
END:VCALENDAR
