BEGIN:VCALENDAR
VERSION:2.0
PRODID:-//horsealert.local//NONSGML kigkonsult.se iCalcreator 2.10.5//
CALSCALE:GREGORIAN
X-WR-TIMEZONE:Europe/Dublin
BEGIN:VTIMEZONE
TZID:Etc/GMT-1
BEGIN:STANDARD
DTSTART:20010101T000000
TZOFFSETFROM:+0100
TZOFFSETTO:+0100
TZNAME:GMT +01:00
END:STANDARD
END:VTIMEZONE
BEGIN:VEVENT
UID:20260423T152536CEST-7169h4GVvO@horsealert.local
DTSTAMP:20260423T130436Z
CATEGORIES:Horse Alerts
DESCRIPTION:EBF Stallions landlordinvestmentshow.co.uk Median Auction Maide
 n Stakes
DTSTART:20150702T185000
LOCATION:England
SUMMARY:Horse Racing:EBF Stallions landlordinvestmentshow.co.uk Median Auct
 ion Maiden Stakes
END:VEVENT
END:VCALENDAR
