BEGIN:VCALENDAR
VERSION:2.0
PRODID:-//horsealert.local//NONSGML kigkonsult.se iCalcreator 2.10.5//
CALSCALE:GREGORIAN
X-WR-TIMEZONE:Europe/Dublin
BEGIN:VTIMEZONE
TZID:Etc/GMT-1
BEGIN:STANDARD
DTSTART:20010101T000000
TZOFFSETFROM:+0100
TZOFFSETTO:+0100
TZNAME:GMT +01:00
END:STANDARD
END:VTIMEZONE
BEGIN:VEVENT
UID:20260423T152249CEST-7363fGlz3H@horsealert.local
DTSTAMP:20260423T130449Z
CATEGORIES:Horse Alerts
DESCRIPTION:Scottish Game Fair 3rd 4th & 5th July Handicap Hurdle
DTSTART:20150701T171000
LOCATION:Scotland
SUMMARY:Horse Racing:Scottish Game Fair 3rd 4th & 5th July Handicap Hurdle
END:VEVENT
END:VCALENDAR
