BEGIN:VCALENDAR
VERSION:2.0
PRODID:-//horsealert.local//NONSGML kigkonsult.se iCalcreator 2.10.5//
CALSCALE:GREGORIAN
X-WR-TIMEZONE:Europe/Dublin
BEGIN:VTIMEZONE
TZID:Etc/GMT-1
BEGIN:STANDARD
DTSTART:20010101T000000
TZOFFSETFROM:+0100
TZOFFSETTO:+0100
TZNAME:GMT +01:00
END:STANDARD
END:VTIMEZONE
BEGIN:VEVENT
UID:20260423T170718CEST-92227Cj36m@horsealert.local
DTSTAMP:20260423T150418Z
CATEGORIES:Horse Alerts
DESCRIPTION:Sheppard Family Novices\' Chase \(For The Gay\, Eve And Tim She
 ppard Memorial Cup\)
DTSTART:20150630T190000
LOCATION:England
SUMMARY:Horse Racing:Sheppard Family Novices\' Chase \(For The Gay\, Eve An
 d Tim Sheppard Memorial Cup\)
END:VEVENT
END:VCALENDAR
