BEGIN:VCALENDAR
VERSION:2.0
PRODID:-//horsealert.local//NONSGML kigkonsult.se iCalcreator 2.10.5//
CALSCALE:GREGORIAN
X-WR-TIMEZONE:Europe/Dublin
BEGIN:VTIMEZONE
TZID:Etc/GMT-1
BEGIN:STANDARD
DTSTART:20010101T000000
TZOFFSETFROM:+0100
TZOFFSETTO:+0100
TZNAME:GMT +01:00
END:STANDARD
END:VTIMEZONE
BEGIN:VEVENT
UID:20260423T170558CEST-4200v08mLN@horsealert.local
DTSTAMP:20260423T150458Z
CATEGORIES:Horse Alerts
DESCRIPTION:Wimbledon Money Back Offers With Unibet EBF Stallions Median Au
 ction Maiden Fillies\' Stakes \(Plus10\)
DTSTART:20150629T180000
LOCATION:England
SUMMARY:Horse Racing:Wimbledon Money Back Offers With Unibet EBF Stallions 
 Median Auction Maiden Fillies\' Stakes \(Plus10\)
END:VEVENT
END:VCALENDAR
