BEGIN:VCALENDAR
VERSION:2.0
PRODID:-//horsealert.local//NONSGML kigkonsult.se iCalcreator 2.10.5//
CALSCALE:GREGORIAN
X-WR-TIMEZONE:Europe/Dublin
BEGIN:VTIMEZONE
TZID:Etc/GMT-1
BEGIN:STANDARD
DTSTART:20010101T000000
TZOFFSETFROM:+0100
TZOFFSETTO:+0100
TZNAME:GMT +01:00
END:STANDARD
END:VTIMEZONE
BEGIN:VEVENT
UID:20260423T170600CEST-23487Fjfv5@horsealert.local
DTSTAMP:20260423T150400Z
CATEGORIES:Horse Alerts
DESCRIPTION:Curragh Supporting The Jack & Jill Foundation Handicap \(60-90\
 )
DTSTART:20150628T180000
LOCATION:Eire
SUMMARY:Horse Racing:Curragh Supporting The Jack & Jill Foundation Handicap
  \(60-90\)
END:VEVENT
END:VCALENDAR
