BEGIN:VCALENDAR
VERSION:2.0
PRODID:-//horsealert.local//NONSGML kigkonsult.se iCalcreator 2.10.5//
CALSCALE:GREGORIAN
X-WR-TIMEZONE:Europe/Dublin
BEGIN:VTIMEZONE
TZID:Etc/GMT-1
BEGIN:STANDARD
DTSTART:20010101T000000
TZOFFSETFROM:+0100
TZOFFSETTO:+0100
TZNAME:GMT +01:00
END:STANDARD
END:VTIMEZONE
BEGIN:VEVENT
UID:20260423T170705CEST-6495k4U9Ge@horsealert.local
DTSTAMP:20260423T150405Z
CATEGORIES:Horse Alerts
DESCRIPTION:Brown Horse Winster Valley Brewery Handicap Hurdle
DTSTART:20150628T141000
LOCATION:England
SUMMARY:Horse Racing:Brown Horse Winster Valley Brewery Handicap Hurdle
END:VEVENT
END:VCALENDAR
