BEGIN:VCALENDAR
VERSION:2.0
PRODID:-//horsealert.local//NONSGML kigkonsult.se iCalcreator 2.10.5//
CALSCALE:GREGORIAN
X-WR-TIMEZONE:Europe/Dublin
BEGIN:VTIMEZONE
TZID:Etc/GMT-1
BEGIN:STANDARD
DTSTART:20010101T000000
TZOFFSETFROM:+0100
TZOFFSETTO:+0100
TZNAME:GMT +01:00
END:STANDARD
END:VTIMEZONE
BEGIN:VEVENT
UID:20260423T170720CEST-9352gnEVGz@horsealert.local
DTSTAMP:20260423T150420Z
CATEGORIES:Horse Alerts
DESCRIPTION:Dubai Duty Free Finest Surprise European Breeders Fund Maiden \
 (Plus 10\)
DTSTART:20150627T150000
LOCATION:Eire
SUMMARY:Horse Racing:Dubai Duty Free Finest Surprise European Breeders Fund
  Maiden \(Plus 10\)
END:VEVENT
END:VCALENDAR
