BEGIN:VCALENDAR
VERSION:2.0
PRODID:-//horsealert.local//NONSGML kigkonsult.se iCalcreator 2.10.5//
CALSCALE:GREGORIAN
X-WR-TIMEZONE:Europe/Dublin
BEGIN:VTIMEZONE
TZID:Etc/GMT-1
BEGIN:STANDARD
DTSTART:20010101T000000
TZOFFSETFROM:+0100
TZOFFSETTO:+0100
TZNAME:GMT +01:00
END:STANDARD
END:VTIMEZONE
BEGIN:VEVENT
UID:20260423T170425CEST-1193CHO9UV@horsealert.local
DTSTAMP:20260423T150425Z
CATEGORIES:Horse Alerts
DESCRIPTION:Betfair Supporting The Animal Health Trust Empress Stakes \(Fil
 lies\' Listed\)
DTSTART:20150627T145000
LOCATION:England
SUMMARY:Horse Racing:Betfair Supporting The Animal Health Trust Empress Sta
 kes \(Fillies\' Listed\)
END:VEVENT
END:VCALENDAR
