BEGIN:VCALENDAR
VERSION:2.0
PRODID:-//horsealert.local//NONSGML kigkonsult.se iCalcreator 2.10.5//
CALSCALE:GREGORIAN
X-WR-TIMEZONE:Europe/Dublin
BEGIN:VTIMEZONE
TZID:Etc/GMT-1
BEGIN:STANDARD
DTSTART:20010101T000000
TZOFFSETFROM:+0100
TZOFFSETTO:+0100
TZNAME:GMT +01:00
END:STANDARD
END:VTIMEZONE
BEGIN:VEVENT
UID:20260423T170706CEST-80564sLSxC@horsealert.local
DTSTAMP:20260423T150406Z
CATEGORIES:Horse Alerts
DESCRIPTION:Betfred \'Still Treble Odds On Lucky15\'s\' Handicap \(Str\)
DTSTART:20150626T201500
LOCATION:England
SUMMARY:Horse Racing:Betfred \'Still Treble Odds On Lucky15\'s\' Handicap \
 (Str\)
END:VEVENT
END:VCALENDAR
