BEGIN:VCALENDAR
VERSION:2.0
PRODID:-//horsealert.local//NONSGML kigkonsult.se iCalcreator 2.10.5//
CALSCALE:GREGORIAN
X-WR-TIMEZONE:Europe/Dublin
BEGIN:VTIMEZONE
TZID:Etc/GMT-1
BEGIN:STANDARD
DTSTART:20010101T000000
TZOFFSETFROM:+0100
TZOFFSETTO:+0100
TZNAME:GMT +01:00
END:STANDARD
END:VTIMEZONE
BEGIN:VEVENT
UID:20260423T170353CEST-61823gNzlF@horsealert.local
DTSTAMP:20260423T150453Z
CATEGORIES:Horse Alerts
DESCRIPTION:Bothwell Building Supplies Saints & Sinners Amateur Riders\' Ha
 ndicap \(For The Saints & Sinners Challenge Cup\)
DTSTART:20150625T181000
LOCATION:Scotland
SUMMARY:Horse Racing:Bothwell Building Supplies Saints & Sinners Amateur Ri
 ders\' Handicap \(For The Saints & Sinners Challenge Cup\)
END:VEVENT
END:VCALENDAR
