BEGIN:VCALENDAR
VERSION:2.0
PRODID:-//horsealert.local//NONSGML kigkonsult.se iCalcreator 2.10.5//
CALSCALE:GREGORIAN
X-WR-TIMEZONE:Europe/Dublin
BEGIN:VTIMEZONE
TZID:Etc/GMT-1
BEGIN:STANDARD
DTSTART:20010101T000000
TZOFFSETFROM:+0100
TZOFFSETTO:+0100
TZNAME:GMT +01:00
END:STANDARD
END:VTIMEZONE
BEGIN:VEVENT
UID:20260423T170100CEST-7362a7XdZg@horsealert.local
DTSTAMP:20260423T150400Z
CATEGORIES:Horse Alerts
DESCRIPTION:David Chillery 70th Birthday Celebration Selling Handicap Hurdl
 e
DTSTART:20150623T183000
LOCATION:England
SUMMARY:Horse Racing:David Chillery 70th Birthday Celebration Selling Handi
 cap Hurdle
END:VEVENT
END:VCALENDAR
