BEGIN:VCALENDAR
VERSION:2.0
PRODID:-//horsealert.local//NONSGML kigkonsult.se iCalcreator 2.10.5//
CALSCALE:GREGORIAN
X-WR-TIMEZONE:Europe/Dublin
BEGIN:VTIMEZONE
TZID:Etc/GMT-1
BEGIN:STANDARD
DTSTART:20010101T000000
TZOFFSETFROM:+0100
TZOFFSETTO:+0100
TZNAME:GMT +01:00
END:STANDARD
END:VTIMEZONE
BEGIN:VEVENT
UID:20260423T170721CEST-0262eJ2vZu@horsealert.local
DTSTAMP:20260423T150421Z
CATEGORIES:Horse Alerts
DESCRIPTION:Vaughanshoes.ie Ballinrobe Claremorris Castlebar Maiden
DTSTART:20150623T204500
LOCATION:Eire
SUMMARY:Horse Racing:Vaughanshoes.ie Ballinrobe Claremorris Castlebar Maide
 n
END:VEVENT
END:VCALENDAR
