BEGIN:VCALENDAR
VERSION:2.0
PRODID:-//horsealert.local//NONSGML kigkonsult.se iCalcreator 2.10.5//
CALSCALE:GREGORIAN
X-WR-TIMEZONE:Europe/Dublin
BEGIN:VTIMEZONE
TZID:Etc/GMT-1
BEGIN:STANDARD
DTSTART:20010101T000000
TZOFFSETFROM:+0100
TZOFFSETTO:+0100
TZNAME:GMT +01:00
END:STANDARD
END:VTIMEZONE
BEGIN:VEVENT
UID:20260423T170751CEST-4240t4FMNG@horsealert.local
DTSTAMP:20260423T150451Z
CATEGORIES:Horse Alerts
DESCRIPTION:Christian De Tredern Grade 3 Hurdle
DTSTART:20150622T152500
LOCATION:France
SUMMARY:Horse Racing:Christian De Tredern Grade 3 Hurdle
END:VEVENT
END:VCALENDAR
