BEGIN:VCALENDAR
VERSION:2.0
PRODID:-//horsealert.local//NONSGML kigkonsult.se iCalcreator 2.10.5//
CALSCALE:GREGORIAN
X-WR-TIMEZONE:Europe/Dublin
BEGIN:VTIMEZONE
TZID:Etc/GMT-1
BEGIN:STANDARD
DTSTART:20010101T000000
TZOFFSETFROM:+0100
TZOFFSETTO:+0100
TZNAME:GMT +01:00
END:STANDARD
END:VTIMEZONE
BEGIN:VEVENT
UID:20260423T170528CEST-4213G1X4CH@horsealert.local
DTSTAMP:20260423T150428Z
CATEGORIES:Horse Alerts
DESCRIPTION:toteplacepot Racing\'s Favourite Bet Conditional Jockeys\' Sell
 ing Hurdle
DTSTART:20150621T143000
LOCATION:England
SUMMARY:Horse Racing:toteplacepot Racing\'s Favourite Bet Conditional Jocke
 ys\' Selling Hurdle
END:VEVENT
END:VCALENDAR
