BEGIN:VCALENDAR
VERSION:2.0
PRODID:-//horsealert.local//NONSGML kigkonsult.se iCalcreator 2.10.5//
CALSCALE:GREGORIAN
X-WR-TIMEZONE:Europe/Dublin
BEGIN:VTIMEZONE
TZID:Etc/GMT-1
BEGIN:STANDARD
DTSTART:20010101T000000
TZOFFSETFROM:+0100
TZOFFSETTO:+0100
TZNAME:GMT +01:00
END:STANDARD
END:VTIMEZONE
BEGIN:VEVENT
UID:20260423T170716CEST-57332uK9Eo@horsealert.local
DTSTAMP:20260423T150416Z
CATEGORIES:Horse Alerts
DESCRIPTION:BBQ Evening August 12th At Gowran Park Handicap \(47-75\)
DTSTART:20150621T151500
LOCATION:Eire
SUMMARY:Horse Racing:BBQ Evening August 12th At Gowran Park Handicap \(47-7
 5\)
END:VEVENT
END:VCALENDAR
