BEGIN:VCALENDAR
VERSION:2.0
PRODID:-//horsealert.local//NONSGML kigkonsult.se iCalcreator 2.10.5//
CALSCALE:GREGORIAN
X-WR-TIMEZONE:Europe/Dublin
BEGIN:VTIMEZONE
TZID:Etc/GMT-1
BEGIN:STANDARD
DTSTART:20010101T000000
TZOFFSETFROM:+0100
TZOFFSETTO:+0100
TZNAME:GMT +01:00
END:STANDARD
END:VTIMEZONE
BEGIN:VEVENT
UID:20260423T170800CEST-6614EAK8BU@horsealert.local
DTSTAMP:20260423T150400Z
CATEGORIES:Horse Alerts
DESCRIPTION:Win A VIP Day Out At redcarracing.co.uk Selling Stakes
DTSTART:20150619T142000
LOCATION:England
SUMMARY:Horse Racing:Win A VIP Day Out At redcarracing.co.uk Selling Stakes
END:VEVENT
END:VCALENDAR
