BEGIN:VCALENDAR
VERSION:2.0
PRODID:-//horsealert.local//NONSGML kigkonsult.se iCalcreator 2.10.5//
CALSCALE:GREGORIAN
X-WR-TIMEZONE:Europe/Dublin
BEGIN:VTIMEZONE
TZID:Etc/GMT-1
BEGIN:STANDARD
DTSTART:20010101T000000
TZOFFSETFROM:+0100
TZOFFSETTO:+0100
TZNAME:GMT +01:00
END:STANDARD
END:VTIMEZONE
BEGIN:VEVENT
UID:20260423T170211CEST-4266w1VwGd@horsealert.local
DTSTAMP:20260423T150411Z
CATEGORIES:Horse Alerts
DESCRIPTION:Beaumont Robinson Ladies\' Derby Handicap \(Lady Amateur Riders
 \)
DTSTART:20150618T163500
LOCATION:England
SUMMARY:Horse Racing:Beaumont Robinson Ladies\' Derby Handicap \(Lady Amate
 ur Riders\)
END:VEVENT
END:VCALENDAR
