BEGIN:VCALENDAR
VERSION:2.0
PRODID:-//horsealert.local//NONSGML kigkonsult.se iCalcreator 2.10.5//
CALSCALE:GREGORIAN
X-WR-TIMEZONE:Europe/Dublin
BEGIN:VTIMEZONE
TZID:Etc/GMT-1
BEGIN:STANDARD
DTSTART:20010101T000000
TZOFFSETFROM:+0100
TZOFFSETTO:+0100
TZNAME:GMT +01:00
END:STANDARD
END:VTIMEZONE
BEGIN:VEVENT
UID:20260423T171016CEST-5132LHcTJ7@horsealert.local
DTSTAMP:20260423T150416Z
CATEGORIES:Horse Alerts
DESCRIPTION:British Stallion Studs EBF Maiden Stakes \(Qualifier For 20\,00
 0 Highland Spring Water 2YO Series Final\)
DTSTART:20150617T142000
LOCATION:Scotland
SUMMARY:Horse Racing:British Stallion Studs EBF Maiden Stakes \(Qualifier F
 or 20\,000 Highland Spring Water 2YO Series Final\)
END:VEVENT
END:VCALENDAR
