BEGIN:VCALENDAR
VERSION:2.0
PRODID:-//horsealert.local//NONSGML kigkonsult.se iCalcreator 2.10.5//
CALSCALE:GREGORIAN
X-WR-TIMEZONE:Europe/Dublin
BEGIN:VTIMEZONE
TZID:Etc/GMT-1
BEGIN:STANDARD
DTSTART:20010101T000000
TZOFFSETFROM:+0100
TZOFFSETTO:+0100
TZNAME:GMT +01:00
END:STANDARD
END:VTIMEZONE
BEGIN:VEVENT
UID:20260423T170802CEST-8386Zz76K3@horsealert.local
DTSTAMP:20260423T150402Z
CATEGORIES:Horse Alerts
DESCRIPTION:Duke Of Cambridge Stakes \(Formerly Windsor Forest Stakes\) \(F
 illies\' Group 2\) \(Str\)
DTSTART:20150617T154000
LOCATION:England
SUMMARY:Horse Racing:Duke Of Cambridge Stakes \(Formerly Windsor Forest Sta
 kes\) \(Fillies\' Group 2\) \(Str\)
END:VEVENT
END:VCALENDAR
