BEGIN:VCALENDAR
VERSION:2.0
PRODID:-//horsealert.local//NONSGML kigkonsult.se iCalcreator 2.10.5//
CALSCALE:GREGORIAN
X-WR-TIMEZONE:Europe/Dublin
BEGIN:VTIMEZONE
TZID:Etc/GMT-1
BEGIN:STANDARD
DTSTART:20010101T000000
TZOFFSETFROM:+0100
TZOFFSETTO:+0100
TZNAME:GMT +01:00
END:STANDARD
END:VTIMEZONE
BEGIN:VEVENT
UID:20260423T170718CEST-6521aZdSD7@horsealert.local
DTSTAMP:20260423T150418Z
CATEGORIES:Horse Alerts
DESCRIPTION:FSB Telecom British Stallions EBF Maiden Fillies\' Stakes \(Plu
 s10\)
DTSTART:20150614T154000
LOCATION:England
SUMMARY:Horse Racing:FSB Telecom British Stallions EBF Maiden Fillies\' Sta
 kes \(Plus10\)
END:VEVENT
END:VCALENDAR
