BEGIN:VCALENDAR
VERSION:2.0
PRODID:-//horsealert.local//NONSGML kigkonsult.se iCalcreator 2.10.5//
CALSCALE:GREGORIAN
X-WR-TIMEZONE:Europe/Dublin
BEGIN:VTIMEZONE
TZID:Etc/GMT-1
BEGIN:STANDARD
DTSTART:20010101T000000
TZOFFSETFROM:+0100
TZOFFSETTO:+0100
TZNAME:GMT +01:00
END:STANDARD
END:VTIMEZONE
BEGIN:VEVENT
UID:20260423T170301CEST-2976bmKJuO@horsealert.local
DTSTAMP:20260423T150401Z
CATEGORIES:Horse Alerts
DESCRIPTION:Family Fun Evening At Clonmel Races Handicap Hurdle \(80-109\)
DTSTART:20150612T180500
LOCATION:Eire
SUMMARY:Horse Racing:Family Fun Evening At Clonmel Races Handicap Hurdle \(
 80-109\)
END:VEVENT
END:VCALENDAR
