BEGIN:VCALENDAR
VERSION:2.0
PRODID:-//horsealert.local//NONSGML kigkonsult.se iCalcreator 2.10.5//
CALSCALE:GREGORIAN
X-WR-TIMEZONE:Europe/Dublin
BEGIN:VTIMEZONE
TZID:Etc/GMT-1
BEGIN:STANDARD
DTSTART:20010101T000000
TZOFFSETFROM:+0100
TZOFFSETTO:+0100
TZNAME:GMT +01:00
END:STANDARD
END:VTIMEZONE
BEGIN:VEVENT
UID:20260423T170353CEST-16345H1NoN@horsealert.local
DTSTAMP:20260423T150453Z
CATEGORIES:Horse Alerts
DESCRIPTION:Belated Birthday Greeting Sean Dooner Handicap Hurdle
DTSTART:20150612T160000
LOCATION:England
SUMMARY:Horse Racing:Belated Birthday Greeting Sean Dooner Handicap Hurdle
END:VEVENT
END:VCALENDAR
