BEGIN:VCALENDAR
VERSION:2.0
PRODID:-//horsealert.local//NONSGML kigkonsult.se iCalcreator 2.10.5//
CALSCALE:GREGORIAN
X-WR-TIMEZONE:Europe/Dublin
BEGIN:VTIMEZONE
TZID:Etc/GMT-1
BEGIN:STANDARD
DTSTART:20010101T000000
TZOFFSETFROM:+0100
TZOFFSETTO:+0100
TZNAME:GMT +01:00
END:STANDARD
END:VTIMEZONE
BEGIN:VEVENT
UID:20260423T170257CEST-9496zRIAk0@horsealert.local
DTSTAMP:20260423T150457Z
CATEGORIES:Horse Alerts
DESCRIPTION:\'Station Road\' Playing After Racing Mares\' Novices\' Hurdle
DTSTART:20150612T145000
LOCATION:England
SUMMARY:Horse Racing:\'Station Road\' Playing After Racing Mares\' Novices\
 ' Hurdle
END:VEVENT
END:VCALENDAR
