BEGIN:VCALENDAR
VERSION:2.0
PRODID:-//horsealert.local//NONSGML kigkonsult.se iCalcreator 2.10.5//
CALSCALE:GREGORIAN
X-WR-TIMEZONE:Europe/Dublin
BEGIN:VTIMEZONE
TZID:Etc/GMT-1
BEGIN:STANDARD
DTSTART:20010101T000000
TZOFFSETFROM:+0100
TZOFFSETTO:+0100
TZNAME:GMT +01:00
END:STANDARD
END:VTIMEZONE
BEGIN:VEVENT
UID:20260423T170749CEST-9663vFf5iK@horsealert.local
DTSTAMP:20260423T150449Z
CATEGORIES:Horse Alerts
DESCRIPTION:British Stallion Studs Visit unibet.co.uk EBF Maiden Stakes
DTSTART:20150612T141000
LOCATION:England
SUMMARY:Horse Racing:British Stallion Studs Visit unibet.co.uk EBF Maiden S
 takes
END:VEVENT
END:VCALENDAR
