BEGIN:VCALENDAR
VERSION:2.0
PRODID:-//horsealert.local//NONSGML kigkonsult.se iCalcreator 2.10.5//
CALSCALE:GREGORIAN
X-WR-TIMEZONE:Europe/Dublin
BEGIN:VTIMEZONE
TZID:Etc/GMT-1
BEGIN:STANDARD
DTSTART:20010101T000000
TZOFFSETFROM:+0100
TZOFFSETTO:+0100
TZNAME:GMT +01:00
END:STANDARD
END:VTIMEZONE
BEGIN:VEVENT
UID:20260423T170257CEST-4487IgCMo3@horsealert.local
DTSTAMP:20260423T150457Z
CATEGORIES:Horse Alerts
DESCRIPTION:Jonnys Odds On A Winner Tonight Handicap
DTSTART:20150611T205000
LOCATION:England
SUMMARY:Horse Racing:Jonnys Odds On A Winner Tonight Handicap
END:VEVENT
END:VCALENDAR
