BEGIN:VCALENDAR
VERSION:2.0
PRODID:-//horsealert.local//NONSGML kigkonsult.se iCalcreator 2.10.5//
CALSCALE:GREGORIAN
X-WR-TIMEZONE:Europe/Dublin
BEGIN:VTIMEZONE
TZID:Etc/GMT-1
BEGIN:STANDARD
DTSTART:20010101T000000
TZOFFSETFROM:+0100
TZOFFSETTO:+0100
TZNAME:GMT +01:00
END:STANDARD
END:VTIMEZONE
BEGIN:VEVENT
UID:20260423T170231CEST-3013zr147r@horsealert.local
DTSTAMP:20260423T150431Z
CATEGORIES:Horse Alerts
DESCRIPTION:Book Tickets On-Line At fairyhouse.ie Race
DTSTART:20150610T190000
LOCATION:Eire
SUMMARY:Horse Racing:Book Tickets On-Line At fairyhouse.ie Race
END:VEVENT
END:VCALENDAR
