BEGIN:VCALENDAR
VERSION:2.0
PRODID:-//horsealert.local//NONSGML kigkonsult.se iCalcreator 2.10.5//
CALSCALE:GREGORIAN
X-WR-TIMEZONE:Europe/Dublin
BEGIN:VTIMEZONE
TZID:Etc/GMT-1
BEGIN:STANDARD
DTSTART:20010101T000000
TZOFFSETFROM:+0100
TZOFFSETTO:+0100
TZNAME:GMT +01:00
END:STANDARD
END:VTIMEZONE
BEGIN:VEVENT
UID:20260423T170352CEST-9861VKXAwV@horsealert.local
DTSTAMP:20260423T150452Z
CATEGORIES:Horse Alerts
DESCRIPTION:ApolloBet Weekly Golf Cashback Handicap
DTSTART:20150610T154000
LOCATION:England
SUMMARY:Horse Racing:ApolloBet Weekly Golf Cashback Handicap
END:VEVENT
END:VCALENDAR
