BEGIN:VCALENDAR
VERSION:2.0
PRODID:-//horsealert.local//NONSGML kigkonsult.se iCalcreator 2.10.5//
CALSCALE:GREGORIAN
X-WR-TIMEZONE:Europe/Dublin
BEGIN:VTIMEZONE
TZID:Etc/GMT-1
BEGIN:STANDARD
DTSTART:20010101T000000
TZOFFSETFROM:+0100
TZOFFSETTO:+0100
TZNAME:GMT +01:00
END:STANDARD
END:VTIMEZONE
BEGIN:VEVENT
UID:20260423T170215CEST-8685BOFJk5@horsealert.local
DTSTAMP:20260423T150415Z
CATEGORIES:Horse Alerts
DESCRIPTION:Flat Cap And Whippet Father\'s Day 21st June Handicap
DTSTART:20150608T204000
LOCATION:England
SUMMARY:Horse Racing:Flat Cap And Whippet Father\'s Day 21st June Handicap
END:VEVENT
END:VCALENDAR
