BEGIN:VCALENDAR
VERSION:2.0
PRODID:-//horsealert.local//NONSGML kigkonsult.se iCalcreator 2.10.5//
CALSCALE:GREGORIAN
X-WR-TIMEZONE:Europe/Dublin
BEGIN:VTIMEZONE
TZID:Etc/GMT-1
BEGIN:STANDARD
DTSTART:20010101T000000
TZOFFSETFROM:+0100
TZOFFSETTO:+0100
TZNAME:GMT +01:00
END:STANDARD
END:VTIMEZONE
BEGIN:VEVENT
UID:20260423T170209CEST-8965tVXbjM@horsealert.local
DTSTAMP:20260423T150409Z
CATEGORIES:Horse Alerts
DESCRIPTION:Land Rover Defender Novices\' Hurdle \(For The Provost\'s Plate
  Challenge Trophy\)
DTSTART:20150607T141000
LOCATION:Scotland
SUMMARY:Horse Racing:Land Rover Defender Novices\' Hurdle \(For The Provost
 \'s Plate Challenge Trophy\)
END:VEVENT
END:VCALENDAR
