BEGIN:VCALENDAR
VERSION:2.0
PRODID:-//horsealert.local//NONSGML kigkonsult.se iCalcreator 2.10.5//
CALSCALE:GREGORIAN
X-WR-TIMEZONE:Europe/Dublin
BEGIN:VTIMEZONE
TZID:Etc/GMT-1
BEGIN:STANDARD
DTSTART:20010101T000000
TZOFFSETFROM:+0100
TZOFFSETTO:+0100
TZNAME:GMT +01:00
END:STANDARD
END:VTIMEZONE
BEGIN:VEVENT
UID:20260423T171016CEST-7771PSELu4@horsealert.local
DTSTAMP:20260423T150416Z
CATEGORIES:Horse Alerts
DESCRIPTION:homexpertsuk.com Exceptional Estate And Letting Agents Intermed
 iate Open NH Flat Race
DTSTART:20150606T153000
LOCATION:England
SUMMARY:Horse Racing:homexpertsuk.com Exceptional Estate And Letting Agents
  Intermediate Open NH Flat Race
END:VEVENT
END:VCALENDAR
