BEGIN:VCALENDAR
VERSION:2.0
PRODID:-//horsealert.local//NONSGML kigkonsult.se iCalcreator 2.10.5//
CALSCALE:GREGORIAN
X-WR-TIMEZONE:Europe/Dublin
BEGIN:VTIMEZONE
TZID:Etc/GMT-1
BEGIN:STANDARD
DTSTART:20010101T000000
TZOFFSETFROM:+0100
TZOFFSETTO:+0100
TZNAME:GMT +01:00
END:STANDARD
END:VTIMEZONE
BEGIN:VEVENT
UID:20260423T170708CEST-4426HRcrZA@horsealert.local
DTSTAMP:20260423T150408Z
CATEGORIES:Horse Alerts
DESCRIPTION:Hazelton Mountford Racehorse Trainers Insurance Novices\' Chase
DTSTART:20150606T134500
LOCATION:England
SUMMARY:Horse Racing:Hazelton Mountford Racehorse Trainers Insurance Novice
 s\' Chase
END:VEVENT
END:VCALENDAR
