BEGIN:VCALENDAR
VERSION:2.0
PRODID:-//horsealert.local//NONSGML kigkonsult.se iCalcreator 2.10.5//
CALSCALE:GREGORIAN
X-WR-TIMEZONE:Europe/Dublin
BEGIN:VTIMEZONE
TZID:Etc/GMT-1
BEGIN:STANDARD
DTSTART:20010101T000000
TZOFFSETFROM:+0100
TZOFFSETTO:+0100
TZNAME:GMT +01:00
END:STANDARD
END:VTIMEZONE
BEGIN:VEVENT
UID:20260423T170404CEST-47124R35iD@horsealert.local
DTSTAMP:20260423T150404Z
CATEGORIES:Horse Alerts
DESCRIPTION:Twilight Hospitality Packages Online At www.limerickraces.ie No
 vice Hurdle
DTSTART:20150606T192000
LOCATION:Eire
SUMMARY:Horse Racing:Twilight Hospitality Packages Online At www.limerickra
 ces.ie Novice Hurdle
END:VEVENT
END:VCALENDAR
