BEGIN:VCALENDAR
VERSION:2.0
PRODID:-//horsealert.local//NONSGML kigkonsult.se iCalcreator 2.10.5//
CALSCALE:GREGORIAN
X-WR-TIMEZONE:Europe/Dublin
BEGIN:VTIMEZONE
TZID:Etc/GMT-1
BEGIN:STANDARD
DTSTART:20010101T000000
TZOFFSETFROM:+0100
TZOFFSETTO:+0100
TZNAME:GMT +01:00
END:STANDARD
END:VTIMEZONE
BEGIN:VEVENT
UID:20260423T170602CEST-3347J3lzAu@horsealert.local
DTSTAMP:20260423T150402Z
CATEGORIES:Horse Alerts
DESCRIPTION:Seamus & Rosemary McGrath Memorial Saval Beg Stakes \(Listed\)
DTSTART:20150605T190500
LOCATION:Eire
SUMMARY:Horse Racing:Seamus & Rosemary McGrath Memorial Saval Beg Stakes \(
 Listed\)
END:VEVENT
END:VCALENDAR
