BEGIN:VCALENDAR
VERSION:2.0
PRODID:-//horsealert.local//NONSGML kigkonsult.se iCalcreator 2.10.5//
CALSCALE:GREGORIAN
X-WR-TIMEZONE:Europe/Dublin
BEGIN:VTIMEZONE
TZID:Etc/GMT-1
BEGIN:STANDARD
DTSTART:20010101T000000
TZOFFSETFROM:+0100
TZOFFSETTO:+0100
TZNAME:GMT +01:00
END:STANDARD
END:VTIMEZONE
BEGIN:VEVENT
UID:20260423T170800CEST-1027Vudt1V@horsealert.local
DTSTAMP:20260423T150400Z
CATEGORIES:Horse Alerts
DESCRIPTION:East Down Pt To Pt Committee Hunters Chase
DTSTART:20150605T202500
LOCATION:Northern Ireland
SUMMARY:Horse Racing:East Down Pt To Pt Committee Hunters Chase
END:VEVENT
END:VCALENDAR
