BEGIN:VCALENDAR
VERSION:2.0
PRODID:-//horsealert.local//NONSGML kigkonsult.se iCalcreator 2.10.5//
CALSCALE:GREGORIAN
X-WR-TIMEZONE:Europe/Dublin
BEGIN:VTIMEZONE
TZID:Etc/GMT-1
BEGIN:STANDARD
DTSTART:20010101T000000
TZOFFSETFROM:+0100
TZOFFSETTO:+0100
TZNAME:GMT +01:00
END:STANDARD
END:VTIMEZONE
BEGIN:VEVENT
UID:20260423T170917CEST-2423ERuuio@horsealert.local
DTSTAMP:20260423T150417Z
CATEGORIES:Horse Alerts
DESCRIPTION:ApolloBet Enhanced Derby Special Handicap \(Jockey Club Grassro
 ots Flat Sprint Series Qualifier\)
DTSTART:20150601T191000
LOCATION:England
SUMMARY:Horse Racing:ApolloBet Enhanced Derby Special Handicap \(Jockey Clu
 b Grassroots Flat Sprint Series Qualifier\)
END:VEVENT
END:VCALENDAR
