BEGIN:VCALENDAR
VERSION:2.0
PRODID:-//horsealert.local//NONSGML kigkonsult.se iCalcreator 2.10.5//
CALSCALE:GREGORIAN
X-WR-TIMEZONE:Europe/Dublin
BEGIN:VTIMEZONE
TZID:Etc/GMT-1
BEGIN:STANDARD
DTSTART:20010101T000000
TZOFFSETFROM:+0100
TZOFFSETTO:+0100
TZNAME:GMT +01:00
END:STANDARD
END:VTIMEZONE
BEGIN:VEVENT
UID:20260423T170706CEST-01320XZ9M0@horsealert.local
DTSTAMP:20260423T150406Z
CATEGORIES:Horse Alerts
DESCRIPTION:ApolloBet New Customer Promotions Apprentice Training Series Ha
 ndicap \(Part of The Racing Excellence Initiative\)
DTSTART:20150601T181000
LOCATION:England
SUMMARY:Horse Racing:ApolloBet New Customer Promotions Apprentice Training 
 Series Handicap \(Part of The Racing Excellence Initiative\)
END:VEVENT
END:VCALENDAR
