BEGIN:VCALENDAR
VERSION:2.0
PRODID:-//horsealert.local//NONSGML kigkonsult.se iCalcreator 2.10.5//
CALSCALE:GREGORIAN
X-WR-TIMEZONE:Europe/Dublin
BEGIN:VTIMEZONE
TZID:Etc/GMT-1
BEGIN:STANDARD
DTSTART:20010101T000000
TZOFFSETFROM:+0100
TZOFFSETTO:+0100
TZNAME:GMT +01:00
END:STANDARD
END:VTIMEZONE
BEGIN:VEVENT
UID:20260423T182655CEST-8006kvsO6U@horsealert.local
DTSTAMP:20260423T160455Z
CATEGORIES:Horse Alerts
DESCRIPTION:Aylsham Show - August Bank Holiday - Lady Amateur Riders\' Hand
 icap Hurdle
DTSTART:20150531T170000
LOCATION:England
SUMMARY:Horse Racing:Aylsham Show - August Bank Holiday - Lady Amateur Ride
 rs\' Handicap Hurdle
END:VEVENT
END:VCALENDAR
